git_url: https://git.bioconductor.org/packages/MicrobiomeBenchmarkData
git_branch: RELEASE_3_16
git_last_commit: 255634b
git_last_commit_date: 2022-11-01 11:29:29 -0400 (Tue, 01 Nov 2022)
Package: MicrobiomeBenchmarkData
Version: 1.0.0
Maintainer: Samuel Gamboa
MaintainerEmail: Samuel.Gamboa.Tuz at gmail.com