Package: ObMiTi Version: 1.6.0 Command: /home/biocbuild/bbs-3.16-bioc/R/bin/R CMD build --keep-empty-dirs --no-resave-data ObMiTi StartedAt: 2023-04-11 10:47:20 -0400 (Tue, 11 Apr 2023) EndedAt: 2023-04-11 10:47:52 -0400 (Tue, 11 Apr 2023) EllapsedTime: 31.8 seconds RetCode: 0 Status: OK PackageFile: ObMiTi_1.6.0.tar.gz PackageFileSize: 36.33 KiB