git_url: https://git.bioconductor.org/packages/QDNAseq.mm10 git_branch: RELEASE_3_16 git_last_commit: fd9b497 git_last_commit_date: 2022-11-01 11:08:26 -0400 (Tue, 01 Nov 2022) Package: QDNAseq.mm10 Version: 1.28.0 Maintainer: Daoud Sie MaintainerEmail: d.sie at vumc.nl