Package: QDNAseq.mm10 Version: 1.28.0 Command: /home/biocbuild/bbs-3.16-bioc/R/bin/R CMD check --install=check:QDNAseq.mm10.install-out.txt --library=/home/biocbuild/bbs-3.16-bioc/R/site-library --timings QDNAseq.mm10_1.28.0.tar.gz StartedAt: 2023-04-11 12:10:45 -0400 (Tue, 11 Apr 2023) EndedAt: 2023-04-11 12:12:40 -0400 (Tue, 11 Apr 2023) EllapsedTime: 115.4 seconds RetCode: 0 Status: OK CheckDir: QDNAseq.mm10.Rcheck Warnings: 0