Package: RMassBankData Version: 1.36.0 Command: /home/biocbuild/bbs-3.16-bioc/R/bin/R CMD build --keep-empty-dirs --no-resave-data RMassBankData StartedAt: 2023-04-11 10:50:02 -0400 (Tue, 11 Apr 2023) EndedAt: 2023-04-11 10:50:14 -0400 (Tue, 11 Apr 2023) EllapsedTime: 11.3 seconds RetCode: 0 Status: OK PackageFile: RMassBankData_1.36.0.tar.gz PackageFileSize: 51.54 MiB