git_url: https://git.bioconductor.org/packages/RTCGA.RPPA git_branch: RELEASE_3_16 git_last_commit: c05e776 git_last_commit_date: 2022-11-01 11:10:06 -0400 (Tue, 01 Nov 2022) Package: RTCGA.RPPA Version: 1.26.0 Maintainer: Marcin Kosinski MaintainerEmail: m.p.kosinski at gmail.com