Package: RTCGA.clinical Version: 20151101.28.0 Command: /home/biocbuild/bbs-3.16-bioc/R/bin/R CMD INSTALL RTCGA.clinical StartedAt: 2023-04-11 10:13:47 -0400 (Tue, 11 Apr 2023) EndedAt: 2023-04-11 10:14:42 -0400 (Tue, 11 Apr 2023) EllapsedTime: 55.0 seconds RetCode: 0 Status: OK