Package: RTCGA.miRNASeq Version: 1.26.0 Command: /home/biocbuild/bbs-3.16-bioc/R/bin/R CMD check --install=check:RTCGA.miRNASeq.install-out.txt --library=/home/biocbuild/bbs-3.16-bioc/R/site-library --timings RTCGA.miRNASeq_1.26.0.tar.gz StartedAt: 2023-04-11 12:14:58 -0400 (Tue, 11 Apr 2023) EndedAt: 2023-04-11 12:17:48 -0400 (Tue, 11 Apr 2023) EllapsedTime: 170.8 seconds RetCode: 0 Status: WARNINGS CheckDir: RTCGA.miRNASeq.Rcheck Warnings: 1