git_url: https://git.bioconductor.org/packages/RnaSeqSampleSizeData git_branch: RELEASE_3_16 git_last_commit: aa4b26b git_last_commit_date: 2022-11-01 11:03:36 -0400 (Tue, 01 Nov 2022) Package: RnaSeqSampleSizeData Version: 1.30.0 Maintainer: Shilin Zhao MaintainerEmail: zhaoshilin at gmail.com