Package: RnaSeqSampleSizeData Version: 1.30.0 Command: /home/biocbuild/bbs-3.16-bioc/R/bin/R CMD build --keep-empty-dirs --no-resave-data RnaSeqSampleSizeData StartedAt: 2023-04-11 10:50:19 -0400 (Tue, 11 Apr 2023) EndedAt: 2023-04-11 10:50:24 -0400 (Tue, 11 Apr 2023) EllapsedTime: 4.6 seconds RetCode: 0 Status: OK PackageFile: RnaSeqSampleSizeData_1.30.0.tar.gz PackageFileSize: 6.029 MiB