Package: SCLCBam Version: 1.30.0 Command: /home/biocbuild/bbs-3.16-bioc/R/bin/R CMD build --keep-empty-dirs --no-resave-data SCLCBam StartedAt: 2023-04-11 10:52:17 -0400 (Tue, 11 Apr 2023) EndedAt: 2023-04-11 10:52:23 -0400 (Tue, 11 Apr 2023) EllapsedTime: 6.4 seconds RetCode: 0 Status: OK PackageFile: SCLCBam_1.30.0.tar.gz PackageFileSize: 57.84 MiB