Package: SCLCBam Version: 1.30.0 Command: /home/biocbuild/bbs-3.16-bioc/R/bin/R CMD check --install=check:SCLCBam.install-out.txt --library=/home/biocbuild/bbs-3.16-bioc/R/site-library --timings SCLCBam_1.30.0.tar.gz StartedAt: 2023-04-11 12:17:30 -0400 (Tue, 11 Apr 2023) EndedAt: 2023-04-11 12:17:45 -0400 (Tue, 11 Apr 2023) EllapsedTime: 15.4 seconds RetCode: 0 Status: OK CheckDir: SCLCBam.Rcheck Warnings: 0