Package: SingleCellMultiModal Version: 1.10.1 Command: /home/biocbuild/bbs-3.16-bioc/R/bin/R CMD check --install=check:SingleCellMultiModal.install-out.txt --library=/home/biocbuild/bbs-3.16-bioc/R/site-library --timings SingleCellMultiModal_1.10.1.tar.gz StartedAt: 2023-04-11 12:19:12 -0400 (Tue, 11 Apr 2023) EndedAt: 2023-04-11 12:28:20 -0400 (Tue, 11 Apr 2023) EllapsedTime: 548.1 seconds RetCode: 0 Status: OK CheckDir: SingleCellMultiModal.Rcheck Warnings: 0