Package: SingleCellMultiModal Version: 1.10.1 Command: /home/biocbuild/bbs-3.16-bioc/R/bin/R CMD INSTALL SingleCellMultiModal StartedAt: 2023-04-11 10:06:24 -0400 (Tue, 11 Apr 2023) EndedAt: 2023-04-11 10:07:09 -0400 (Tue, 11 Apr 2023) EllapsedTime: 45.5 seconds RetCode: 0 Status: OK