git_url: https://git.bioconductor.org/packages/TCGAMethylation450k git_branch: RELEASE_3_16 git_last_commit: 4a886e3 git_last_commit_date: 2022-11-01 10:47:46 -0400 (Tue, 01 Nov 2022) Package: TCGAMethylation450k Version: 1.34.0 Maintainer: Sean Davis MaintainerEmail: sdavis2 at mail.nih.gov