Package: TCGAcrcmRNA
Version: 1.18.0
Command: /home/biocbuild/bbs-3.16-bioc/R/bin/R CMD build --keep-empty-dirs --no-resave-data TCGAcrcmRNA
StartedAt: 2023-04-11 10:55:56 -0400 (Tue, 11 Apr 2023)
EndedAt: 2023-04-11 10:56:05 -0400 (Tue, 11 Apr 2023)
EllapsedTime: 9.1 seconds
RetCode: 0
Status: OK
PackageFile: TCGAcrcmRNA_1.18.0.tar.gz
PackageFileSize: 35.22 <A href="http://en.wikipedia.org/wiki/MiB" target="_blank">MiB</A>