Package: TENxBrainData Version: 1.18.0 Command: /home/biocbuild/bbs-3.16-bioc/R/bin/R CMD INSTALL TENxBrainData StartedAt: 2023-04-11 10:05:55 -0400 (Tue, 11 Apr 2023) EndedAt: 2023-04-11 10:06:32 -0400 (Tue, 11 Apr 2023) EllapsedTime: 37.0 seconds RetCode: 0 Status: OK