Package: TargetSearchData Version: 1.36.0 Command: /home/biocbuild/bbs-3.16-bioc/R/bin/R CMD build --keep-empty-dirs --no-resave-data TargetSearchData StartedAt: 2023-04-11 10:55:37 -0400 (Tue, 11 Apr 2023) EndedAt: 2023-04-11 10:55:58 -0400 (Tue, 11 Apr 2023) EllapsedTime: 21.0 seconds RetCode: 0 Status: OK PackageFile: TargetSearchData_1.36.0.tar.gz PackageFileSize: 29.86 MiB