Package: biscuiteerData Version: 1.12.0 Command: /home/biocbuild/bbs-3.16-bioc/R/bin/R CMD check --install=check:biscuiteerData.install-out.txt --library=/home/biocbuild/bbs-3.16-bioc/R/site-library --timings biscuiteerData_1.12.0.tar.gz StartedAt: 2023-04-11 11:28:30 -0400 (Tue, 11 Apr 2023) EndedAt: 2023-04-11 11:30:52 -0400 (Tue, 11 Apr 2023) EllapsedTime: 142.3 seconds RetCode: 0 Status: OK CheckDir: biscuiteerData.Rcheck Warnings: 0