Package: chromstaRData Version: 1.24.0 Command: /home/biocbuild/bbs-3.16-bioc/R/bin/R CMD check --install=check:chromstaRData.install-out.txt --library=/home/biocbuild/bbs-3.16-bioc/R/site-library --timings chromstaRData_1.24.0.tar.gz StartedAt: 2023-04-11 11:34:23 -0400 (Tue, 11 Apr 2023) EndedAt: 2023-04-11 11:34:39 -0400 (Tue, 11 Apr 2023) EllapsedTime: 16.4 seconds RetCode: 0 Status: WARNINGS CheckDir: chromstaRData.Rcheck Warnings: 1