Package: clustifyrdatahub Version: 1.8.0 Command: /home/biocbuild/bbs-3.16-bioc/R/bin/R CMD INSTALL clustifyrdatahub StartedAt: 2023-04-11 10:07:49 -0400 (Tue, 11 Apr 2023) EndedAt: 2023-04-11 10:08:14 -0400 (Tue, 11 Apr 2023) EllapsedTime: 25.4 seconds RetCode: 0 Status: OK