Package: colonCA Version: 1.40.0 Command: /home/biocbuild/bbs-3.16-bioc/R/bin/R CMD build --keep-empty-dirs --no-resave-data colonCA StartedAt: 2023-04-11 10:26:40 -0400 (Tue, 11 Apr 2023) EndedAt: 2023-04-11 10:26:41 -0400 (Tue, 11 Apr 2023) EllapsedTime: 1.0 seconds RetCode: 0 Status: OK PackageFile: colonCA_1.40.0.tar.gz PackageFileSize: 783.3 KiB