Package: curatedAdipoArray
Version: 1.10.0
Command: /home/biocbuild/bbs-3.16-bioc/R/bin/R CMD build --keep-empty-dirs --no-resave-data curatedAdipoArray
StartedAt: 2023-04-11 10:27:17 -0400 (Tue, 11 Apr 2023)
EndedAt: 2023-04-11 10:27:38 -0400 (Tue, 11 Apr 2023)
EllapsedTime: 21.3 seconds
RetCode: 0
Status: OK
PackageFile: curatedAdipoArray_1.10.0.tar.gz
PackageFileSize: 36.25 <A href="http://en.wikipedia.org/wiki/KiB" target="_blank">KiB</A>