Package: curatedAdipoRNA Version: 1.14.0 Command: /home/biocbuild/bbs-3.16-bioc/R/bin/R CMD build --keep-empty-dirs --no-resave-data curatedAdipoRNA StartedAt: 2023-04-11 10:27:39 -0400 (Tue, 11 Apr 2023) EndedAt: 2023-04-11 10:29:07 -0400 (Tue, 11 Apr 2023) EllapsedTime: 88.3 seconds RetCode: 0 Status: OK PackageFile: curatedAdipoRNA_1.14.0.tar.gz PackageFileSize: 5.577 MiB