Package: dorothea Version: 1.10.0 Command: /home/biocbuild/bbs-3.16-bioc/R/bin/R CMD build --keep-empty-dirs --no-resave-data dorothea StartedAt: 2023-04-11 10:31:41 -0400 (Tue, 11 Apr 2023) EndedAt: 2023-04-11 10:32:29 -0400 (Tue, 11 Apr 2023) EllapsedTime: 48.8 seconds RetCode: 0 Status: OK PackageFile: dorothea_1.10.0.tar.gz PackageFileSize: 33 MiB