Package: dorothea Version: 1.10.0 Command: /home/biocbuild/bbs-3.16-bioc/R/bin/R CMD check --install=check:dorothea.install-out.txt --library=/home/biocbuild/bbs-3.16-bioc/R/site-library --timings dorothea_1.10.0.tar.gz StartedAt: 2023-04-11 11:41:10 -0400 (Tue, 11 Apr 2023) EndedAt: 2023-04-11 11:42:30 -0400 (Tue, 11 Apr 2023) EllapsedTime: 79.4 seconds RetCode: 0 Status: OK CheckDir: dorothea.Rcheck Warnings: 0