Package: dorothea Version: 1.10.0 Command: /home/biocbuild/bbs-3.16-bioc/R/bin/R CMD INSTALL dorothea StartedAt: 2023-04-11 10:14:14 -0400 (Tue, 11 Apr 2023) EndedAt: 2023-04-11 10:15:07 -0400 (Tue, 11 Apr 2023) EllapsedTime: 52.9 seconds RetCode: 0 Status: OK