Package: ffpeExampleData Version: 1.36.0 Command: /home/biocbuild/bbs-3.16-bioc/R/bin/R CMD INSTALL ffpeExampleData StartedAt: 2023-04-11 10:11:53 -0400 (Tue, 11 Apr 2023) EndedAt: 2023-04-11 10:12:32 -0400 (Tue, 11 Apr 2023) EllapsedTime: 38.7 seconds RetCode: 0 Status: OK