Package: hapmap100khind
Version: 1.40.0
Command: /home/biocbuild/bbs-3.16-bioc/R/bin/R CMD INSTALL hapmap100khind
StartedAt: 2023-04-11 10:01:01 -0400 (Tue, 11 Apr 2023)
EndedAt: 2023-04-11 10:01:04 -0400 (Tue, 11 Apr 2023)
EllapsedTime: 3.5 seconds
RetCode: 0
Status: OK