Package: hapmap100kxba Version: 1.40.0 Command: /home/biocbuild/bbs-3.16-bioc/R/bin/R CMD build --keep-empty-dirs --no-resave-data hapmap100kxba StartedAt: 2023-04-11 10:37:10 -0400 (Tue, 11 Apr 2023) EndedAt: 2023-04-11 10:37:52 -0400 (Tue, 11 Apr 2023) EllapsedTime: 42.3 seconds RetCode: 0 Status: OK PackageFile: hapmap100kxba_1.40.0.tar.gz PackageFileSize: 38.99 MiB