Package: healthyControlsPresenceChecker Version: 1.2.0 Command: /home/biocbuild/bbs-3.16-bioc/R/bin/R CMD build --keep-empty-dirs --no-resave-data healthyControlsPresenceChecker StartedAt: 2023-04-11 10:39:15 -0400 (Tue, 11 Apr 2023) EndedAt: 2023-04-11 10:39:25 -0400 (Tue, 11 Apr 2023) EllapsedTime: 9.8 seconds RetCode: 0 Status: OK PackageFile: healthyControlsPresenceChecker_1.2.0.tar.gz PackageFileSize: 219.6 KiB