git_url: https://git.bioconductor.org/packages/hgu133plus2CellScore git_branch: RELEASE_3_16 git_last_commit: ec4305e git_last_commit_date: 2022-11-01 11:18:05 -0400 (Tue, 01 Nov 2022) Package: hgu133plus2CellScore Version: 1.18.0 Maintainer: Nancy Mah MaintainerEmail: nancy.l.mah at googlemail.com