Package: hgu133plus2CellScore Version: 1.18.0 Command: /home/biocbuild/bbs-3.16-bioc/R/bin/R CMD build --keep-empty-dirs --no-resave-data hgu133plus2CellScore StartedAt: 2023-04-11 10:39:32 -0400 (Tue, 11 Apr 2023) EndedAt: 2023-04-11 10:39:58 -0400 (Tue, 11 Apr 2023) EllapsedTime: 26.2 seconds RetCode: 0 Status: OK PackageFile: hgu133plus2CellScore_1.18.0.tar.gz PackageFileSize: 40.99 MiB