Package: hgu133plus2CellScore Version: 1.18.0 Command: /home/biocbuild/bbs-3.16-bioc/R/bin/R CMD check --install=check:hgu133plus2CellScore.install-out.txt --library=/home/biocbuild/bbs-3.16-bioc/R/site-library --timings hgu133plus2CellScore_1.18.0.tar.gz StartedAt: 2023-04-11 11:52:17 -0400 (Tue, 11 Apr 2023) EndedAt: 2023-04-11 11:52:50 -0400 (Tue, 11 Apr 2023) EllapsedTime: 33.6 seconds RetCode: 0 Status: WARNINGS CheckDir: hgu133plus2CellScore.Rcheck Warnings: 1