Package: hgu133plus2CellScore Version: 1.18.0 Command: /home/biocbuild/bbs-3.16-bioc/R/bin/R CMD INSTALL hgu133plus2CellScore StartedAt: 2023-04-11 10:01:40 -0400 (Tue, 11 Apr 2023) EndedAt: 2023-04-11 10:02:11 -0400 (Tue, 11 Apr 2023) EllapsedTime: 31.5 seconds RetCode: 0 Status: OK