Package: miRcompData Version: 1.28.0 Command: /home/biocbuild/bbs-3.16-bioc/R/bin/R CMD build --keep-empty-dirs --no-resave-data miRcompData StartedAt: 2023-04-11 10:45:10 -0400 (Tue, 11 Apr 2023) EndedAt: 2023-04-11 10:45:12 -0400 (Tue, 11 Apr 2023) EllapsedTime: 1.5 seconds RetCode: 0 Status: OK PackageFile: miRcompData_1.28.0.tar.gz PackageFileSize: 8.654 <A href="http://en.wikipedia.org/wiki/MiB" target="_blank">MiB</A>