Package: microRNAome Version: 1.20.0 Command: /home/biocbuild/bbs-3.16-bioc/R/bin/R CMD check --install=check:microRNAome.install-out.txt --library=/home/biocbuild/bbs-3.16-bioc/R/site-library --timings microRNAome_1.20.0.tar.gz StartedAt: 2023-04-11 12:01:08 -0400 (Tue, 11 Apr 2023) EndedAt: 2023-04-11 12:01:59 -0400 (Tue, 11 Apr 2023) EllapsedTime: 51.1 seconds RetCode: 0 Status: OK CheckDir: microRNAome.Rcheck Warnings: 0