Package: mtbls2 Version: 1.28.0 Command: /home/biocbuild/bbs-3.16-bioc/R/bin/R CMD check --install=check:mtbls2.install-out.txt --library=/home/biocbuild/bbs-3.16-bioc/R/site-library --timings mtbls2_1.28.0.tar.gz StartedAt: 2023-04-11 12:04:42 -0400 (Tue, 11 Apr 2023) EndedAt: 2023-04-11 12:07:22 -0400 (Tue, 11 Apr 2023) EllapsedTime: 159.8 seconds RetCode: 0 Status: WARNINGS CheckDir: mtbls2.Rcheck Warnings: 1