Package: nanotubes Version: 1.14.0 Command: /home/biocbuild/bbs-3.16-bioc/R/bin/R CMD build --keep-empty-dirs --no-resave-data nanotubes StartedAt: 2023-04-11 10:46:31 -0400 (Tue, 11 Apr 2023) EndedAt: 2023-04-11 10:46:50 -0400 (Tue, 11 Apr 2023) EllapsedTime: 18.7 seconds RetCode: 0 Status: OK PackageFile: nanotubes_1.14.0.tar.gz PackageFileSize: 117.6 MiB