Package: sesameData Version: 1.16.0 Command: /home/biocbuild/bbs-3.16-bioc/R/bin/R CMD build --keep-empty-dirs --no-resave-data sesameData StartedAt: 2023-04-11 10:53:05 -0400 (Tue, 11 Apr 2023) EndedAt: 2023-04-11 10:53:50 -0400 (Tue, 11 Apr 2023) EllapsedTime: 44.3 seconds RetCode: 0 Status: OK PackageFile: sesameData_1.16.0.tar.gz PackageFileSize: 1.868 MiB