Package: seventyGeneData Version: 1.34.0 Command: /home/biocbuild/bbs-3.16-bioc/R/bin/R CMD build --keep-empty-dirs --no-resave-data seventyGeneData StartedAt: 2023-04-11 10:53:13 -0400 (Tue, 11 Apr 2023) EndedAt: 2023-04-11 10:54:09 -0400 (Tue, 11 Apr 2023) EllapsedTime: 56.1 seconds RetCode: 0 Status: OK PackageFile: seventyGeneData_1.34.0.tar.gz PackageFileSize: 144.9 MiB