Package: stjudem Version: 1.38.0 Command: /home/biocbuild/bbs-3.16-bioc/R/bin/R CMD build --keep-empty-dirs --no-resave-data stjudem StartedAt: 2023-04-11 10:54:38 -0400 (Tue, 11 Apr 2023) EndedAt: 2023-04-11 10:54:43 -0400 (Tue, 11 Apr 2023) EllapsedTime: 4.3 seconds RetCode: 0 Status: OK PackageFile: stjudem_1.38.0.tar.gz PackageFileSize: 27.59 MiB