Package: timecoursedata Version: 1.8.0 Command: /home/biocbuild/bbs-3.16-bioc/R/bin/R CMD build --keep-empty-dirs --no-resave-data timecoursedata StartedAt: 2023-04-11 10:56:22 -0400 (Tue, 11 Apr 2023) EndedAt: 2023-04-11 10:56:53 -0400 (Tue, 11 Apr 2023) EllapsedTime: 31.4 seconds RetCode: 0 Status: OK PackageFile: timecoursedata_1.8.0.tar.gz PackageFileSize: 44.87 MiB