Package: timecoursedata Version: 1.8.0 Command: /home/biocbuild/bbs-3.16-bioc/R/bin/R CMD check --install=check:timecoursedata.install-out.txt --library=/home/biocbuild/bbs-3.16-bioc/R/site-library --timings timecoursedata_1.8.0.tar.gz StartedAt: 2023-04-11 12:24:39 -0400 (Tue, 11 Apr 2023) EndedAt: 2023-04-11 12:26:56 -0400 (Tue, 11 Apr 2023) EllapsedTime: 136.8 seconds RetCode: 0 Status: OK CheckDir: timecoursedata.Rcheck Warnings: 0