git_url: https://git.bioconductor.org/packages/yeastNagalakshmi git_branch: RELEASE_3_16 git_last_commit: 86e57eb git_last_commit_date: 2022-11-01 10:47:18 -0400 (Tue, 01 Nov 2022) Package: yeastNagalakshmi Version: 1.34.0 Maintainer: Bioconductor Package Maintainer MaintainerEmail: maintainer at bioconductor.org