git_url: https://git.bioconductor.org/packages/BiocMetaWorkflow git_branch: RELEASE_3_16 git_last_commit: a890177 git_last_commit_date: 2022-11-01 10:34:30 -0400 (Tue, 01 Nov 2022) Package: BiocMetaWorkflow Version: 1.20.0 Maintainer: Mike Smith MaintainerEmail: grimbough at gmail.com