Package: BiocMetaWorkflow Version: 1.20.0 Command: /Library/Frameworks/R.framework/Resources/bin/R CMD build --keep-empty-dirs --no-resave-data BiocMetaWorkflow StartedAt: 2023-04-11 11:02:43 -0400 (Tue, 11 Apr 2023) EndedAt: 2023-04-11 11:02:56 -0400 (Tue, 11 Apr 2023) EllapsedTime: 13.2 seconds RetCode: 0 Status: OK PackageFile: BiocMetaWorkflow_1.20.0.tar.gz PackageFileSize: 401.1 KiB