Package: BiocMetaWorkflow Version: 1.20.0 Command: /Library/Frameworks/R.framework/Resources/bin/R CMD INSTALL BiocMetaWorkflow StartedAt: 2023-04-11 11:00:15 -0400 (Tue, 11 Apr 2023) EndedAt: 2023-04-11 11:00:18 -0400 (Tue, 11 Apr 2023) EllapsedTime: 3.1 seconds RetCode: 0 Status: OK