Package: BiocMetaWorkflow Version: 1.20.0 Command: chmod a+r BiocMetaWorkflow -R && F:\biocbuild\bbs-3.16-bioc\R\bin\R.exe CMD build --keep-empty-dirs --no-resave-data BiocMetaWorkflow StartedAt: 2023-04-11 11:04:49 -0400 (Tue, 11 Apr 2023) EndedAt: 2023-04-11 11:05:09 -0400 (Tue, 11 Apr 2023) EllapsedTime: 19.9 seconds RetCode: 0 Status: OK PackageFile: BiocMetaWorkflow_1.20.0.tar.gz PackageFileSize: 401.2 KiB