Package: BiocMetaWorkflow Version: 1.20.0 Command: F:\biocbuild\bbs-3.16-bioc\R\bin\R.exe CMD INSTALL BiocMetaWorkflow StartedAt: 2023-04-11 11:00:47 -0400 (Tue, 11 Apr 2023) EndedAt: 2023-04-11 11:00:49 -0400 (Tue, 11 Apr 2023) EllapsedTime: 1.9 seconds RetCode: 0 Status: OK